BEGIN:VCALENDAR
VERSION:2.0
PRODID:icalendar-ruby
CALSCALE:GREGORIAN
METHOD:PUBLISH
BEGIN:VEVENT
DTSTAMP:20260426T030147Z
UID:22-1337287@zionlutherancloverdale.org
DTSTART:20261004T140000Z
DTEND:20261004T150000Z
CLASS:PUBLIC
CREATED:20260425T191027
DESCRIPTION:Worship Service each Sunday at 9 am. \nHoly Communion served t
 he 1st and 3rd Sundays of each month and all celebration Sundays.\nCoffee 
 Hour Social following service the 2nd and 4th Sundays of each month.\nYout
 h Sunday every 4th Sunday.\n5th Sundays are Hebrews Sundays (non-tradition
 al service)\nAll are welcome.\nThank you to our network of worship leaders
  who ensure there is always someone to lead service and provide a sermon o
 r meditation to connect us with the word and will of our Lord.\n\nWendy Re
 amer-Johnson \nLena Scullard \nJim Frye\nBarb Fischer\nPatti Hocking\nDo
 die Frye\n\nWe are now streaming our services virtualy through Facebook! N
 o account needed to watch.\nhttps://www.facebook.com/ZionLutheranCloverdal
 e\n 
LAST-MODIFIED:20260425T191027
LOCATION:Zion Lutheran Church Cloverdale
SUMMARY:Worship Service
URL;VALUE=URI:https://zionlutherancloverdale.org/events/worship-service--22
 /2026-10-04
ATTACH;FILENAME=church placeholder.jpg;FMTTYPE=image/jpeg:https://dq5pwpg1q
 8ru0.cloudfront.net/2025/03/01/17/06/59/4972e049-c413-433c-9b17-13e8279b4c
 5b/church%20placeholder.jpg
END:VEVENT
END:VCALENDAR
